BEGIN:VCALENDAR
VERSION:2.0
PRODID:-//hacksw/handcal//NONSGML v1.0//EN
CALSCALE:GREGORIAN
BEGIN:VEVENT
ORGANIZER;CN=Galaxy Digital Inc.:MAILTO:no-reply@gcs-web.com
DTEND:
UID:bf5edaf1-b9fc-4d7e-82b6-320ae60e806f
DTSTAMP:1776953503
LOCATION:https://viavid.webcasts.com/starthere.jsp?ei=1754190&tp_key=caac23cd92
DESCRIPTION:Event Details https://investor.galaxy.com/events/event-details/galaxy-digital-first-quarter-2026-earnings-call\n\nWebcast: https://viavid.webcasts.com/starthere.jsp?ei=1754190&tp_key=caac23cd92
URL;VALUE=URI:https://viavid.webcasts.com/starthere.jsp?ei=1754190&tp_key=caac23cd92
SUMMARY:Galaxy Digital Inc. - Galaxy Digital First Quarter 2026 Earnings Call
DTSTART:20260428T123000Z
END:VEVENT
END:VCALENDAR